BEGIN:VCALENDAR
VERSION:2.0
PRODID:-//wp-events-plugin.com//6.4.6.4//EN
TZID:America/Denver
X-WR-TIMEZONE:America/Denver
BEGIN:VEVENT
UID:43@bigskyseminars.com
DTSTART;TZID=America/Denver:20170304T080000
DTEND;TZID=America/Denver:20170305T170000
DTSTAMP:20161101T205744Z
URL:https://www.bigskyseminars.com/events/tmd-sleep-dentistry-imaging-leve
 l-ii/
SUMMARY:TMD and Sleep Dentistry Imaging Level II - Pathology
DESCRIPTION:Course description:\nThe IAMI TMD and Sleep Dentistry Series is
  a structured learning experience created to provide the clinician with co
 re TMD imaging knowledge. Each course builds the foundation of knowledge f
 or the following course.\nThis series will be offered in four separate cou
 rses. Each course learning objectives builds and expands on the previous o
 ffering to create a comprehensive\, integrated understanding of TMD Imagin
 g and its correlation to Sleep Dentistry.\n\nTMD Imaging 2\nThis course is
  a two-day\, highly interactive\, hands-on course that will provide an in-
 depth review of the major TMJ pathology and how it can contribute to obstr
 uctive sleep apnea and other orofacial abnormalities.\n\n&nbsp\;\n\nto reg
 ister of for more information:   beamreaders.com/education
CATEGORIES:Calendar
LOCATION:Hilton Garden Inn Lake Buena VIsta / Orlando\, 11400 Marbella Palm
  Court\, Orlando\, FL\, 32836\, United States
GEO:28.3928515;-81.49285809999998
X-APPLE-STRUCTURED-LOCATION;VALUE=URI;X-ADDRESS=11400 Marbella Palm Court\,
  Orlando\, FL\, 32836\, United States;X-APPLE-RADIUS=100;X-TITLE=Hilton Ga
 rden Inn Lake Buena VIsta / Orlando:geo:28.3928515,-81.49285809999998
END:VEVENT
BEGIN:VTIMEZONE
TZID:America/Denver
X-LIC-LOCATION:America/Denver
BEGIN:STANDARD
DTSTART:20161106T010000
TZOFFSETFROM:-0600
TZOFFSETTO:-0700
TZNAME:MST
END:STANDARD
END:VTIMEZONE
END:VCALENDAR